BEGIN:VCALENDAR
VERSION:2.0
PRODID:-//Schacky-Park Dießen - ECPv6.0.5//NONSGML v1.0//EN
CALSCALE:GREGORIAN
METHOD:PUBLISH
X-WR-CALNAME:Schacky-Park Dießen
X-ORIGINAL-URL:https://www.schacky-park.de
X-WR-CALDESC:Veranstaltungen für Schacky-Park Dießen
REFRESH-INTERVAL;VALUE=DURATION:PT1H
X-Robots-Tag:noindex
X-PUBLISHED-TTL:PT1H
BEGIN:VTIMEZONE
TZID:Europe/Berlin
BEGIN:DAYLIGHT
TZOFFSETFROM:+0100
TZOFFSETTO:+0200
TZNAME:CEST
DTSTART:20260329T010000
END:DAYLIGHT
BEGIN:STANDARD
TZOFFSETFROM:+0200
TZOFFSETTO:+0100
TZNAME:CET
DTSTART:20261025T010000
END:STANDARD
END:VTIMEZONE
BEGIN:VEVENT
DTSTART;TZID=Europe/Berlin:20260424T150000
DTEND;TZID=Europe/Berlin:20260424T170000
DTSTAMP:20260424T044113
CREATED:20260329T110145Z
LAST-MODIFIED:20260329T114734Z
UID:7903-1777042800-1777050000@www.schacky-park.de
SUMMARY:Frühlingserwachen - Landschaftskunst im Schacky-Park
DESCRIPTION:               \n         \n   \nFrühlingserwachen  \n  \nLandschaftskunst im Schackypark \n  \nSchon einmal verzauberten Installationen aus zartem blauen Stoff des Künstlers Peter J.M. Schneider den Schacky-Park. In diesem Jahr wird er wieder tätig\, und diesmal hat er die Künstlerin Verena Friedrich aus Gauting an seiner Seite. \nVom 20. bis 23. April wird man die Beiden dabei beobachten können\, wie sie ihre Werke schaffen und dabei Bezug nehmen zu den Bäumen\, den Blickachsen und vorhandenen Skulpturen. \nDie Vernissage mit einer Führung durch die beiden Kunstschaffenden und Lyrik von Peter J.M. Schneider findet am 24. April um 15.00 statt mit Treffpunkt am Monopteros. \n  \nVerena Friedrich und Peter J.M. Schneider lernten sich bei einem Kunstsymposium in den Niederlanden kennen und schätzen ihren inspirierenden künstlerischen Austausch. 2025 entstand eine gemeinsame Arbeit im SüdpArt in München. \n  \nVerena Friedrich ist freischaffende Künstlerin und lebt und arbeitet in Gauting und Lajares auf Fuerteventura. Sie verbindet Papier\, Draht und Naturmaterialien zu meist ortsspezifischen\, fragilen Arbeiten. Für Ausstellungen und Residencies im In- und Ausland erarbeitet sie raumgreifende Werke\, zuletzt für die Papierbiennale im Fengxian Museum in Shanghai.  \nwww.friedrich-verena.de/  \n  \nPeter J.M. Schneider hat es vor langer Zeit von München nach Aachen verschlagen. Dießen ist ihm aber seit seiner Kindheit sehr vertraut\, denn er besuchte hier seine Großeltern am Ammersee. Sein Schwerpunkt sind ortsspezifische Kunstprojekte in verschiedenen europäischen Ländern. Viele seiner Werke sind von einer spielerischen Leichtigkeit. Dabei verwendet er häufig vor Ort gefundene Materialien\, aber auch Textilien oder Stahl. Gedichte von ihm sind in Anthologien und Künstlerbüchern erschienen. www.art.pjmschneider.de  \n  \nZur Landschaftskunst fügt sich ab dem 1. Mai im Teehaus des Schacky-Parks stimmig die Ausstellung „Dialog mit dem Stein“ mit Skulpturen von Wieland Schöffner. \n                       \n          \n  \n  \n 
URL:https://www.schacky-park.de/termin/fruehlingserwachen-landschaftskunst-im-schacky-park/
LOCATION:Monopteros im Schacky-Park (Zugang über Eingang Vogelherdstraße)\, Vogelherdstraße\, 50 m vor dem SOS Kinderdorf\, 86911\, 86911\, Deutschland
END:VEVENT
BEGIN:VEVENT
DTSTART;TZID=Europe/Berlin:20260424T180000
DTEND;TZID=Europe/Berlin:20260424T203000
DTSTAMP:20260424T044113
CREATED:20260419T103201Z
LAST-MODIFIED:20260419T103201Z
UID:7932-1777053600-1777062600@www.schacky-park.de
SUMMARY:Einladung zur Mitgliederversammlung
DESCRIPTION:Die ordentliche Mitgliederversammlung \n                                                                                                                                        des Förderkreises Schacky-Park Dießen am Ammersee e.V. \n       für das Jahr 2026 findet statt \n  \n  am Freitag\, 24. April 2026\, um 18 Uhr im Hotel Seefelderhof im Alexander-Koester-Weg 6 in Dießen \n  \n  \n                Tagesordnung \n  \n\nBegrüßung\nJahresfilm\nBericht zum vergangenen Jahr\nBericht des Schatzmeisters und der Kassenprüfer\nEntlastung des Vorstandes\nWahl des Vorstands und der Referatsleiter*innen.\nPlanungen und Projekte für das laufende Jahr\nAnträge\, Wünsche und Verschiedenes (Anträge sollten dem Vorstand spätestens acht Tage vor der Versammlung zugehen.)\n\nGerne begrüßen wir auch interessierte Gäste und die Vertreter der Presse. \nWir freuen uns immer\, wenn Sie durch Ihr Kommen Ihr Interesse für den Schacky-Park zeigen. \nIm Hotel Seefelderhof erwartet Sie eine umfangreiche Speisekarte ab 18 Uhr. \nFür Rückfragen können Sie sich gerne telefonisch unter Tel. 08807-948372 an uns wenden. \nMit herzlichem Gruß \nChristine Reichert \nim Namen des gesamten Vorstands \n  \n  \nDießen\, 1. 4. 2026
URL:https://www.schacky-park.de/termin/einladung-zur-mitgliederversammlung-2/
LOCATION:Hotel Seefelderhof\, Alexander-Koester Weg 6\, Dießen\, 86911\, Deutschland
END:VEVENT
END:VCALENDAR